View In:
ArcGIS JavaScript
ArcGIS.com Map
Google Earth
ArcMap
View Footprint In:
ArcGIS.com Map
Service Description:
Name: Aerial/Aerial_2024
Description: Aerial/Aerial_2024
Single Fused Map Cache: false
Extent:
XMin: -1.04935955282E7
YMin: 4335044.199246229
XMax: -1.046140888862672E7
YMax: 4358221.085200001
Spatial Reference: 102100
(3857)
Initial Extent:
XMin: -1.04935955282E7
YMin: 4335044.199246229
XMax: -1.046140888862672E7
YMax: 4358221.085200001
Spatial Reference: 102100
(3857)
Full Extent:
XMin: -1.04935955282E7
YMin: 4335044.199246229
XMax: -1.046140888862672E7
YMax: 4358221.085200001
Spatial Reference: 102100
(3857)
Pixel Size X: 0.15240030480061253
Pixel Size Y: 0.15240030480060943
Band Count: 4
Pixel Type: U8
RasterFunction Infos: N/A
Mensuration Capabilities: Basic
Has Histograms: true
Has Colormap: false
Min Scale: 0
Max Scale: 0
Copyright Text: Dept. of Community Development, Rogers, Arkansas
Service Data Type: esriImageServiceDataTypeGeneric
Min Values: 0, 0, 1, 15
Max Values: 252, 252, 251, 254
Mean Values: 106.30864515131033, 99.83599500956724, 95.46277856804173, 175.05227175663904
Standard Deviation Values: 45.570004723216314, 40.326132961190034, 34.733609663354805, 49.55049915787712
Object ID Field: OBJECTID
Fields:
-
OBJECTID
(
type: esriFieldTypeOID
, alias: OBJECTID
)
-
Shape
(
type: esriFieldTypeGeometry
, alias: Shape
)
-
Name
(
type: esriFieldTypeString
, alias: Name
, length: 50
)
-
MinPS
(
type: esriFieldTypeDouble
, alias: MinPS
)
-
MaxPS
(
type: esriFieldTypeDouble
, alias: MaxPS
)
-
LowPS
(
type: esriFieldTypeDouble
, alias: LowPS
)
-
HighPS
(
type: esriFieldTypeDouble
, alias: HighPS
)
-
Category
(
type: esriFieldTypeInteger
, alias: Category
, Coded Values:
[0: Unknown]
, [1: Primary]
, [2: Overview]
, ...5 more...
)
-
Tag
(
type: esriFieldTypeString
, alias: Tag
, length: 20
)
-
GroupName
(
type: esriFieldTypeString
, alias: GroupName
, length: 50
)
-
ProductName
(
type: esriFieldTypeString
, alias: ProductName
, length: 50
)
-
CenterX
(
type: esriFieldTypeDouble
, alias: CenterX
)
-
CenterY
(
type: esriFieldTypeDouble
, alias: CenterY
)
-
ZOrder
(
type: esriFieldTypeInteger
, alias: ZOrder
)
-
Shape_Length
(
type: esriFieldTypeDouble
, alias: Shape_Length
)
-
Shape_Area
(
type: esriFieldTypeDouble
, alias: Shape_Area
)
-
Thumbnail
(
type: esriFieldTypeBlob
, alias: Thumbnail
)
Default Mosaic Method: Northwest
Allowed Mosaic Methods: NorthWest,Center,LockRaster,ByAttribute,Nadir,Viewpoint,Seamline,None
SortField:
SortValue: null
Mosaic Operator: First
Default Compression Quality: 75
Default Resampling Method: Bilinear
Max Record Count: 1000
Max Image Height: 4100
Max Image Width: 15000
Max Download Image Count: 20
Max Mosaic Image Count: 20
Allow Raster Function: true
Allow Compute TiePoints: false
Supports Statistics: true
Supports Advanced Queries: true
Use StandardizedQueries: true
Raster Type Infos:
Name: Raster Dataset
Description: Supports all ArcGIS Raster Datasets
Help:
Has Raster Attribute Table: false
Edit Fields Info: null
Ownership Based AccessControl For Rasters: null
Child Resources:
Info
Histograms
Key Properties
Legend
Supported Operations:
Export Image
Query
Identify
Measure
Compute Histograms
Get Samples
Compute Class Statistics