View In:
ArcGIS JavaScript
ArcGIS.com Map
Google Earth
ArcMap
View Footprint In:
ArcGIS.com Map
Service Description:
Name: Aerial/Aerial_2018
Description: Aerial/Aerial_2018
Single Fused Map Cache: false
Extent:
XMin: -1.0495528012966989E7
YMin: 4335044.195180657
XMax: -1.046884668196942E7
YMax: 4360120.598566272
Spatial Reference: 102100
(3857)
Initial Extent:
XMin: -1.0495528012966989E7
YMin: 4335044.195180657
XMax: -1.046884668196942E7
YMax: 4360120.598566272
Spatial Reference: 102100
(3857)
Full Extent:
XMin: -1.0495528012966989E7
YMin: 4335044.195180657
XMax: -1.046884668196942E7
YMax: 4360120.598566272
Spatial Reference: 102100
(3857)
Pixel Size X: 0.15240030499999707
Pixel Size Y: 0.15240030499999985
Band Count: 4
Pixel Type: U8
RasterFunction Infos: N/A
Mensuration Capabilities:
Has Histograms: true
Has Colormap: false
Min Scale: 0
Max Scale: 0
Copyright Text: Dept. of Community Development, Rogers, AR
Service Data Type: esriImageServiceDataTypeGeneric
Min Values: 1, 1, 1, 18
Max Values: 255, 255, 255, 255
Mean Values: 99.7912242679952, 100.89007570173571, 88.02569597607345, 127.08880788251466
Standard Deviation Values: 47.544114490425855, 45.26968159570667, 43.197978084846525, 33.817614071136774
Object ID Field: OBJECTID
Fields:
-
OBJECTID
(
type: esriFieldTypeOID
, alias: OBJECTID
)
-
Category
(
type: esriFieldTypeInteger
, alias: Category
, Coded Values:
[0: Unknown]
, [1: Primary]
, [2: Overview]
, ...5 more...
)
-
Shape
(
type: esriFieldTypeGeometry
, alias: Shape
)
Default Mosaic Method: Northwest
Allowed Mosaic Methods: NorthWest,Center,LockRaster,ByAttribute,Nadir,Viewpoint,Seamline,None
SortField:
SortValue: null
Mosaic Operator: Max
Default Compression Quality: 75
Default Resampling Method: Bilinear
Max Record Count: 20
Max Image Height: 4100
Max Image Width: 15000
Max Download Image Count: 0
Max Mosaic Image Count: 50
Allow Raster Function: true
Allow Compute TiePoints: false
Supports Statistics: true
Supports Advanced Queries: true
Use StandardizedQueries: true
Raster Type Infos:
Name: Raster Dataset
Description: Supports all ArcGIS Raster Datasets
Help:
Has Raster Attribute Table: false
Edit Fields Info: null
Ownership Based AccessControl For Rasters: null
Child Resources:
Info
Histograms
Key Properties
Legend
Supported Operations:
Export Image
Query
Identify
Measure
Compute Histograms
Get Samples
Compute Class Statistics